BEGIN:VCALENDAR
VERSION:2.0
PRODID:-//Running Deer Golf Club - ECPv6.15.11//NONSGML v1.0//EN
CALSCALE:GREGORIAN
METHOD:PUBLISH
X-ORIGINAL-URL:https://runningdeergolfclub.com
X-WR-CALDESC:Events for Running Deer Golf Club
REFRESH-INTERVAL;VALUE=DURATION:PT1H
X-Robots-Tag:noindex
X-PUBLISHED-TTL:PT1H
BEGIN:VTIMEZONE
TZID:UTC
BEGIN:STANDARD
TZOFFSETFROM:+0000
TZOFFSETTO:+0000
TZNAME:UTC
DTSTART:20240101T000000
END:STANDARD
END:VTIMEZONE
BEGIN:VEVENT
DTSTART;TZID=UTC:20250126T150000
DTEND;TZID=UTC:20250126T200000
DTSTAMP:20260424T111910
CREATED:20250121T154351Z
LAST-MODIFIED:20250121T162003Z
UID:10000097-1737903600-1737921600@runningdeergolfclub.com
SUMMARY:Eagles vs. Washington Watch Party
DESCRIPTION:THE EAGLES ARE IN THE NFC CHAMPIONSHIP! Come watch at Seven Tap-Tavern! \n\n$5 Craft Drafts\n$5 Sun Cruisers\nEagles Trivia with Dan Hoban\nComplimentary Buffet\n1/2 Off Appetizers in 4th Quarter\nGreen Jell-O Shots for Eagles Touchdowns\nEagles jersey giveaway and other prizes\n\nKICKOFF AT 3 PM!
URL:https://runningdeergolfclub.com/event/eagles-vs-washington-watch-party/
ATTACH;FMTTYPE=image/jpeg:https://runningdeergolfclub.com/wp-content/uploads/2025/01/eagles-watch-party-events-calendar-1.jpg
END:VEVENT
END:VCALENDAR