BEGIN:VCALENDAR
VERSION:2.0
PRODID:-//Running Deer Golf Club - ECPv6.15.11//NONSGML v1.0//EN
CALSCALE:GREGORIAN
METHOD:PUBLISH
X-WR-CALNAME:Running Deer Golf Club
X-ORIGINAL-URL:https://runningdeergolfclub.com
X-WR-CALDESC:Events for Running Deer Golf Club
REFRESH-INTERVAL;VALUE=DURATION:PT1H
X-Robots-Tag:noindex
X-PUBLISHED-TTL:PT1H
BEGIN:VTIMEZONE
TZID:UTC
BEGIN:STANDARD
TZOFFSETFROM:+0000
TZOFFSETTO:+0000
TZNAME:UTC
DTSTART:20240101T000000
END:STANDARD
END:VTIMEZONE
BEGIN:VEVENT
DTSTART;TZID=UTC:20250101T103000
DTEND;TZID=UTC:20250101T163000
DTSTAMP:20260422T140150
CREATED:20241126T170013Z
LAST-MODIFIED:20241126T170014Z
UID:10000005-1735727400-1735749000@runningdeergolfclub.com
SUMMARY:Hangover Classic
DESCRIPTION:Start the New Year off right with our Hangover Classic! Join us for a fun-filled day of golf\, bubbly\, Bloody Marys\, delicious lunch\, and great prizes – it’s the perfect way to kick off 2024! \nRegister Online
URL:https://runningdeergolfclub.com/event/hangover-classic/
CATEGORIES:Members Only
ATTACH;FMTTYPE=image/jpeg:https://runningdeergolfclub.com/wp-content/uploads/2024/11/3.jpg
END:VEVENT
END:VCALENDAR