BEGIN:VCALENDAR
VERSION:2.0
PRODID:-//Running Deer Golf Club - ECPv6.15.11//NONSGML v1.0//EN
CALSCALE:GREGORIAN
METHOD:PUBLISH
X-ORIGINAL-URL:https://runningdeergolfclub.com
X-WR-CALDESC:Events for Running Deer Golf Club
REFRESH-INTERVAL;VALUE=DURATION:PT1H
X-Robots-Tag:noindex
X-PUBLISHED-TTL:PT1H
BEGIN:VTIMEZONE
TZID:UTC
BEGIN:STANDARD
TZOFFSETFROM:+0000
TZOFFSETTO:+0000
TZNAME:UTC
DTSTART:20240101T000000
END:STANDARD
END:VTIMEZONE
BEGIN:VEVENT
DTSTART;TZID=UTC:20250223T090000
DTEND;TZID=UTC:20250223T170000
DTSTAMP:20260420T124151
CREATED:20250108T181216Z
LAST-MODIFIED:20250213T174616Z
UID:10000095-1740301200-1740330000@runningdeergolfclub.com
SUMMARY:Chili Open
DESCRIPTION:Join us for our Chili Open on Sunday\, February 23rd. Shotgun start at 10 AM\, followed by a post-round chili buffet featuring Chef Steve’s various takes on traditional chili recipes. \n$55 per member\, Net and Gross Winners. Price includes a bloody mary and breakfast bar\, golf\, prizes\, and post-round chili! \nNOTE: MEMBER-ONLY EVENT
URL:https://runningdeergolfclub.com/event/chili-open/
CATEGORIES:Members Only
ATTACH;FMTTYPE=image/jpeg:https://runningdeergolfclub.com/wp-content/uploads/2025/01/chili-open-events-calendar.jpg
END:VEVENT
END:VCALENDAR