BEGIN:VCALENDAR
VERSION:2.0
PRODID:-//Running Deer Golf Club - ECPv6.15.11//NONSGML v1.0//EN
CALSCALE:GREGORIAN
METHOD:PUBLISH
X-WR-CALNAME:Running Deer Golf Club
X-ORIGINAL-URL:https://runningdeergolfclub.com
X-WR-CALDESC:Events for Running Deer Golf Club
REFRESH-INTERVAL;VALUE=DURATION:PT1H
X-Robots-Tag:noindex
X-PUBLISHED-TTL:PT1H
BEGIN:VTIMEZONE
TZID:UTC
BEGIN:STANDARD
TZOFFSETFROM:+0000
TZOFFSETTO:+0000
TZNAME:UTC
DTSTART:20230101T000000
END:STANDARD
END:VTIMEZONE
BEGIN:VEVENT
DTSTART;TZID=UTC:20241201T120000
DTEND;TZID=UTC:20241201T160000
DTSTAMP:20260419T162057
CREATED:20241126T165824Z
LAST-MODIFIED:20241126T165827Z
UID:10000004-1733054400-1733068800@runningdeergolfclub.com
SUMMARY:Holiday Market
DESCRIPTION:Join us for a festive day filled with:\n🎁 Local Vendors offering unique gifts and handmade items\n🍴 Food Trucks + delicious bites and drinks at Seven Tap-Tavern\n🎅 Photos with Santa — don’t miss the chance for a fun family photo!\n🎁 Complimentary Gift Wrapping with any purchase at our Pro-Shop \nIt’s the perfect day out for friends and family — bring everyone and enjoy the festivities! \n📅 Date: Sunday\, December 1st\n🕒 Time: 12:00 – 4:00pm\n📍 Location: Running Deer Golf Club \nWe can’t wait to see you there!
URL:https://runningdeergolfclub.com/event/holiday-market/
CATEGORIES:Public
ATTACH;FMTTYPE=image/jpeg:https://runningdeergolfclub.com/wp-content/uploads/2024/11/2.jpg
END:VEVENT
END:VCALENDAR