BEGIN:VCALENDAR
VERSION:2.0
PRODID:-//Running Deer Golf Club - ECPv6.15.11//NONSGML v1.0//EN
CALSCALE:GREGORIAN
METHOD:PUBLISH
X-WR-CALNAME:Running Deer Golf Club
X-ORIGINAL-URL:https://runningdeergolfclub.com
X-WR-CALDESC:Events for Running Deer Golf Club
REFRESH-INTERVAL;VALUE=DURATION:PT1H
X-Robots-Tag:noindex
X-PUBLISHED-TTL:PT1H
BEGIN:VTIMEZONE
TZID:UTC
BEGIN:STANDARD
TZOFFSETFROM:+0000
TZOFFSETTO:+0000
TZNAME:UTC
DTSTART:20240101T000000
END:STANDARD
END:VTIMEZONE
BEGIN:VEVENT
DTSTART;TZID=UTC:20250214T160000
DTEND;TZID=UTC:20250214T200000
DTSTAMP:20260419T130941
CREATED:20250203T131556Z
LAST-MODIFIED:20250203T131556Z
UID:10000099-1739548800-1739563200@runningdeergolfclub.com
SUMMARY:Valentine's Day Dinner
DESCRIPTION:It’s time to make your Valentine’s Day reservations. \nSpend your Friday night with your sweetheart at Running Deer with our 4-course dinner for two🍷 \nCLICK HERE TO RESERVE YOUR SPOT!
URL:https://runningdeergolfclub.com/event/valentines-day-dinner/
CATEGORIES:Public
ATTACH;FMTTYPE=image/jpeg:https://runningdeergolfclub.com/wp-content/uploads/2025/02/rd-valentines-calendar.jpg
END:VEVENT
END:VCALENDAR