BEGIN:VCALENDAR
VERSION:2.0
PRODID:-//Running Deer Golf Club - ECPv6.15.11//NONSGML v1.0//EN
CALSCALE:GREGORIAN
METHOD:PUBLISH
X-WR-CALNAME:Running Deer Golf Club
X-ORIGINAL-URL:https://runningdeergolfclub.com
X-WR-CALDESC:Events for Running Deer Golf Club
REFRESH-INTERVAL;VALUE=DURATION:PT1H
X-Robots-Tag:noindex
X-PUBLISHED-TTL:PT1H
BEGIN:VTIMEZONE
TZID:UTC
BEGIN:STANDARD
TZOFFSETFROM:+0000
TZOFFSETTO:+0000
TZNAME:UTC
DTSTART:20250101T000000
END:STANDARD
END:VTIMEZONE
BEGIN:VEVENT
DTSTART;TZID=UTC:20260923T190000
DTEND;TZID=UTC:20260923T210000
DTSTAMP:20260425T102056
CREATED:20260424T185747Z
LAST-MODIFIED:20260424T185748Z
UID:10005766-1790190000-1790197200@runningdeergolfclub.com
SUMMARY:Live Music
DESCRIPTION:Join us every Wednesday from 7-9 PM for Live Music inside Seven Tap-Tavern!
URL:https://runningdeergolfclub.com/event/live-music-2-2-2-2/2026-09-23/
CATEGORIES:Public
ATTACH;FMTTYPE=image/png:https://runningdeergolfclub.com/wp-content/uploads/2026/03/Live-Music.png
END:VEVENT
BEGIN:VEVENT
DTSTART;TZID=UTC:20260925T160000
DTEND;TZID=UTC:20260925T200000
DTSTAMP:20260425T102056
CREATED:20251216T212219Z
LAST-MODIFIED:20251216T212252Z
UID:10000520-1790352000-1790366400@runningdeergolfclub.com
SUMMARY:Prime Rib Night
DESCRIPTION:Join us every Friday from 4-8pm inside Seven Tap-Tavern for a delicious Prime Rib Dinner! Enjoy alongside your choice of soup or salad\, a starch\, and vegetable for $30.
URL:https://runningdeergolfclub.com/event/prime-rib-night/2026-09-25/
ATTACH;FMTTYPE=image/jpeg:https://runningdeergolfclub.com/wp-content/uploads/2025/12/RJG-1920-x-1080-px-5-1.jpg
END:VEVENT
BEGIN:VEVENT
DTSTART;TZID=UTC:20260930T190000
DTEND;TZID=UTC:20260930T210000
DTSTAMP:20260425T102056
CREATED:20260424T185747Z
LAST-MODIFIED:20260424T185748Z
UID:10005767-1790794800-1790802000@runningdeergolfclub.com
SUMMARY:Live Music
DESCRIPTION:Join us every Wednesday from 7-9 PM for Live Music inside Seven Tap-Tavern!
URL:https://runningdeergolfclub.com/event/live-music-2-2-2-2/2026-09-30/
CATEGORIES:Public
ATTACH;FMTTYPE=image/png:https://runningdeergolfclub.com/wp-content/uploads/2026/03/Live-Music.png
END:VEVENT
BEGIN:VEVENT
DTSTART;TZID=UTC:20261002T160000
DTEND;TZID=UTC:20261002T200000
DTSTAMP:20260425T102056
CREATED:20251216T212219Z
LAST-MODIFIED:20251216T212252Z
UID:10000521-1790956800-1790971200@runningdeergolfclub.com
SUMMARY:Prime Rib Night
DESCRIPTION:Join us every Friday from 4-8pm inside Seven Tap-Tavern for a delicious Prime Rib Dinner! Enjoy alongside your choice of soup or salad\, a starch\, and vegetable for $30.
URL:https://runningdeergolfclub.com/event/prime-rib-night/2026-10-02/
ATTACH;FMTTYPE=image/jpeg:https://runningdeergolfclub.com/wp-content/uploads/2025/12/RJG-1920-x-1080-px-5-1.jpg
END:VEVENT
BEGIN:VEVENT
DTSTART;TZID=UTC:20261007T190000
DTEND;TZID=UTC:20261007T210000
DTSTAMP:20260425T102057
CREATED:20260424T185747Z
LAST-MODIFIED:20260424T185748Z
UID:10005768-1791399600-1791406800@runningdeergolfclub.com
SUMMARY:Live Music
DESCRIPTION:Join us every Wednesday from 7-9 PM for Live Music inside Seven Tap-Tavern!
URL:https://runningdeergolfclub.com/event/live-music-2-2-2-2/2026-10-07/
CATEGORIES:Public
ATTACH;FMTTYPE=image/png:https://runningdeergolfclub.com/wp-content/uploads/2026/03/Live-Music.png
END:VEVENT
BEGIN:VEVENT
DTSTART;TZID=UTC:20261009T160000
DTEND;TZID=UTC:20261009T200000
DTSTAMP:20260425T102057
CREATED:20251216T212219Z
LAST-MODIFIED:20251216T212252Z
UID:10000522-1791561600-1791576000@runningdeergolfclub.com
SUMMARY:Prime Rib Night
DESCRIPTION:Join us every Friday from 4-8pm inside Seven Tap-Tavern for a delicious Prime Rib Dinner! Enjoy alongside your choice of soup or salad\, a starch\, and vegetable for $30.
URL:https://runningdeergolfclub.com/event/prime-rib-night/2026-10-09/
ATTACH;FMTTYPE=image/jpeg:https://runningdeergolfclub.com/wp-content/uploads/2025/12/RJG-1920-x-1080-px-5-1.jpg
END:VEVENT
BEGIN:VEVENT
DTSTART;TZID=UTC:20261014T190000
DTEND;TZID=UTC:20261014T210000
DTSTAMP:20260425T102057
CREATED:20260424T185747Z
LAST-MODIFIED:20260424T185748Z
UID:10005769-1792004400-1792011600@runningdeergolfclub.com
SUMMARY:Live Music
DESCRIPTION:Join us every Wednesday from 7-9 PM for Live Music inside Seven Tap-Tavern!
URL:https://runningdeergolfclub.com/event/live-music-2-2-2-2/2026-10-14/
CATEGORIES:Public
ATTACH;FMTTYPE=image/png:https://runningdeergolfclub.com/wp-content/uploads/2026/03/Live-Music.png
END:VEVENT
BEGIN:VEVENT
DTSTART;TZID=UTC:20261016T160000
DTEND;TZID=UTC:20261016T200000
DTSTAMP:20260425T102057
CREATED:20251216T212219Z
LAST-MODIFIED:20251216T212252Z
UID:10000523-1792166400-1792180800@runningdeergolfclub.com
SUMMARY:Prime Rib Night
DESCRIPTION:Join us every Friday from 4-8pm inside Seven Tap-Tavern for a delicious Prime Rib Dinner! Enjoy alongside your choice of soup or salad\, a starch\, and vegetable for $30.
URL:https://runningdeergolfclub.com/event/prime-rib-night/2026-10-16/
ATTACH;FMTTYPE=image/jpeg:https://runningdeergolfclub.com/wp-content/uploads/2025/12/RJG-1920-x-1080-px-5-1.jpg
END:VEVENT
BEGIN:VEVENT
DTSTART;TZID=UTC:20261021T190000
DTEND;TZID=UTC:20261021T210000
DTSTAMP:20260425T102057
CREATED:20260424T185747Z
LAST-MODIFIED:20260424T185748Z
UID:10005770-1792609200-1792616400@runningdeergolfclub.com
SUMMARY:Live Music
DESCRIPTION:Join us every Wednesday from 7-9 PM for Live Music inside Seven Tap-Tavern!
URL:https://runningdeergolfclub.com/event/live-music-2-2-2-2/2026-10-21/
CATEGORIES:Public
ATTACH;FMTTYPE=image/png:https://runningdeergolfclub.com/wp-content/uploads/2026/03/Live-Music.png
END:VEVENT
BEGIN:VEVENT
DTSTART;TZID=UTC:20261023T160000
DTEND;TZID=UTC:20261023T200000
DTSTAMP:20260425T102057
CREATED:20251216T212219Z
LAST-MODIFIED:20251216T212252Z
UID:10000524-1792771200-1792785600@runningdeergolfclub.com
SUMMARY:Prime Rib Night
DESCRIPTION:Join us every Friday from 4-8pm inside Seven Tap-Tavern for a delicious Prime Rib Dinner! Enjoy alongside your choice of soup or salad\, a starch\, and vegetable for $30.
URL:https://runningdeergolfclub.com/event/prime-rib-night/2026-10-23/
ATTACH;FMTTYPE=image/jpeg:https://runningdeergolfclub.com/wp-content/uploads/2025/12/RJG-1920-x-1080-px-5-1.jpg
END:VEVENT
BEGIN:VEVENT
DTSTART;TZID=UTC:20261028T190000
DTEND;TZID=UTC:20261028T210000
DTSTAMP:20260425T102057
CREATED:20260424T185747Z
LAST-MODIFIED:20260424T185748Z
UID:10005771-1793214000-1793221200@runningdeergolfclub.com
SUMMARY:Live Music
DESCRIPTION:Join us every Wednesday from 7-9 PM for Live Music inside Seven Tap-Tavern!
URL:https://runningdeergolfclub.com/event/live-music-2-2-2-2/2026-10-28/
CATEGORIES:Public
ATTACH;FMTTYPE=image/png:https://runningdeergolfclub.com/wp-content/uploads/2026/03/Live-Music.png
END:VEVENT
BEGIN:VEVENT
DTSTART;TZID=UTC:20261030T160000
DTEND;TZID=UTC:20261030T200000
DTSTAMP:20260425T102057
CREATED:20251216T212219Z
LAST-MODIFIED:20251216T212252Z
UID:10000525-1793376000-1793390400@runningdeergolfclub.com
SUMMARY:Prime Rib Night
DESCRIPTION:Join us every Friday from 4-8pm inside Seven Tap-Tavern for a delicious Prime Rib Dinner! Enjoy alongside your choice of soup or salad\, a starch\, and vegetable for $30.
URL:https://runningdeergolfclub.com/event/prime-rib-night/2026-10-30/
ATTACH;FMTTYPE=image/jpeg:https://runningdeergolfclub.com/wp-content/uploads/2025/12/RJG-1920-x-1080-px-5-1.jpg
END:VEVENT
BEGIN:VEVENT
DTSTART;TZID=UTC:20261104T190000
DTEND;TZID=UTC:20261104T210000
DTSTAMP:20260425T102057
CREATED:20260424T185747Z
LAST-MODIFIED:20260424T185748Z
UID:10005772-1793818800-1793826000@runningdeergolfclub.com
SUMMARY:Live Music
DESCRIPTION:Join us every Wednesday from 7-9 PM for Live Music inside Seven Tap-Tavern!
URL:https://runningdeergolfclub.com/event/live-music-2-2-2-2/2026-11-04/
CATEGORIES:Public
ATTACH;FMTTYPE=image/png:https://runningdeergolfclub.com/wp-content/uploads/2026/03/Live-Music.png
END:VEVENT
BEGIN:VEVENT
DTSTART;TZID=UTC:20261106T160000
DTEND;TZID=UTC:20261106T200000
DTSTAMP:20260425T102057
CREATED:20251216T212219Z
LAST-MODIFIED:20251216T212252Z
UID:10000526-1793980800-1793995200@runningdeergolfclub.com
SUMMARY:Prime Rib Night
DESCRIPTION:Join us every Friday from 4-8pm inside Seven Tap-Tavern for a delicious Prime Rib Dinner! Enjoy alongside your choice of soup or salad\, a starch\, and vegetable for $30.
URL:https://runningdeergolfclub.com/event/prime-rib-night/2026-11-06/
ATTACH;FMTTYPE=image/jpeg:https://runningdeergolfclub.com/wp-content/uploads/2025/12/RJG-1920-x-1080-px-5-1.jpg
END:VEVENT
BEGIN:VEVENT
DTSTART;TZID=UTC:20261111T190000
DTEND;TZID=UTC:20261111T210000
DTSTAMP:20260425T102057
CREATED:20260424T185747Z
LAST-MODIFIED:20260424T185748Z
UID:10005773-1794423600-1794430800@runningdeergolfclub.com
SUMMARY:Live Music
DESCRIPTION:Join us every Wednesday from 7-9 PM for Live Music inside Seven Tap-Tavern!
URL:https://runningdeergolfclub.com/event/live-music-2-2-2-2/2026-11-11/
CATEGORIES:Public
ATTACH;FMTTYPE=image/png:https://runningdeergolfclub.com/wp-content/uploads/2026/03/Live-Music.png
END:VEVENT
BEGIN:VEVENT
DTSTART;TZID=UTC:20261113T160000
DTEND;TZID=UTC:20261113T200000
DTSTAMP:20260425T102057
CREATED:20251216T212219Z
LAST-MODIFIED:20251216T212252Z
UID:10000527-1794585600-1794600000@runningdeergolfclub.com
SUMMARY:Prime Rib Night
DESCRIPTION:Join us every Friday from 4-8pm inside Seven Tap-Tavern for a delicious Prime Rib Dinner! Enjoy alongside your choice of soup or salad\, a starch\, and vegetable for $30.
URL:https://runningdeergolfclub.com/event/prime-rib-night/2026-11-13/
ATTACH;FMTTYPE=image/jpeg:https://runningdeergolfclub.com/wp-content/uploads/2025/12/RJG-1920-x-1080-px-5-1.jpg
END:VEVENT
BEGIN:VEVENT
DTSTART;TZID=UTC:20261118T190000
DTEND;TZID=UTC:20261118T210000
DTSTAMP:20260425T102057
CREATED:20260424T185747Z
LAST-MODIFIED:20260424T185748Z
UID:10005774-1795028400-1795035600@runningdeergolfclub.com
SUMMARY:Live Music
DESCRIPTION:Join us every Wednesday from 7-9 PM for Live Music inside Seven Tap-Tavern!
URL:https://runningdeergolfclub.com/event/live-music-2-2-2-2/2026-11-18/
CATEGORIES:Public
ATTACH;FMTTYPE=image/png:https://runningdeergolfclub.com/wp-content/uploads/2026/03/Live-Music.png
END:VEVENT
BEGIN:VEVENT
DTSTART;TZID=UTC:20261120T160000
DTEND;TZID=UTC:20261120T200000
DTSTAMP:20260425T102057
CREATED:20251216T212219Z
LAST-MODIFIED:20251216T212252Z
UID:10000528-1795190400-1795204800@runningdeergolfclub.com
SUMMARY:Prime Rib Night
DESCRIPTION:Join us every Friday from 4-8pm inside Seven Tap-Tavern for a delicious Prime Rib Dinner! Enjoy alongside your choice of soup or salad\, a starch\, and vegetable for $30.
URL:https://runningdeergolfclub.com/event/prime-rib-night/2026-11-20/
ATTACH;FMTTYPE=image/jpeg:https://runningdeergolfclub.com/wp-content/uploads/2025/12/RJG-1920-x-1080-px-5-1.jpg
END:VEVENT
BEGIN:VEVENT
DTSTART;TZID=UTC:20261125T190000
DTEND;TZID=UTC:20261125T210000
DTSTAMP:20260425T102057
CREATED:20260424T185747Z
LAST-MODIFIED:20260424T185748Z
UID:10005775-1795633200-1795640400@runningdeergolfclub.com
SUMMARY:Live Music
DESCRIPTION:Join us every Wednesday from 7-9 PM for Live Music inside Seven Tap-Tavern!
URL:https://runningdeergolfclub.com/event/live-music-2-2-2-2/2026-11-25/
CATEGORIES:Public
ATTACH;FMTTYPE=image/png:https://runningdeergolfclub.com/wp-content/uploads/2026/03/Live-Music.png
END:VEVENT
BEGIN:VEVENT
DTSTART;TZID=UTC:20261127T160000
DTEND;TZID=UTC:20261127T200000
DTSTAMP:20260425T102057
CREATED:20251216T212219Z
LAST-MODIFIED:20251216T212252Z
UID:10000529-1795795200-1795809600@runningdeergolfclub.com
SUMMARY:Prime Rib Night
DESCRIPTION:Join us every Friday from 4-8pm inside Seven Tap-Tavern for a delicious Prime Rib Dinner! Enjoy alongside your choice of soup or salad\, a starch\, and vegetable for $30.
URL:https://runningdeergolfclub.com/event/prime-rib-night/2026-11-27/
ATTACH;FMTTYPE=image/jpeg:https://runningdeergolfclub.com/wp-content/uploads/2025/12/RJG-1920-x-1080-px-5-1.jpg
END:VEVENT
BEGIN:VEVENT
DTSTART;TZID=UTC:20261202T190000
DTEND;TZID=UTC:20261202T210000
DTSTAMP:20260425T102057
CREATED:20260424T185747Z
LAST-MODIFIED:20260424T185748Z
UID:10005776-1796238000-1796245200@runningdeergolfclub.com
SUMMARY:Live Music
DESCRIPTION:Join us every Wednesday from 7-9 PM for Live Music inside Seven Tap-Tavern!
URL:https://runningdeergolfclub.com/event/live-music-2-2-2-2/2026-12-02/
CATEGORIES:Public
ATTACH;FMTTYPE=image/png:https://runningdeergolfclub.com/wp-content/uploads/2026/03/Live-Music.png
END:VEVENT
BEGIN:VEVENT
DTSTART;TZID=UTC:20261204T160000
DTEND;TZID=UTC:20261204T200000
DTSTAMP:20260425T102057
CREATED:20251216T212219Z
LAST-MODIFIED:20251216T212252Z
UID:10000530-1796400000-1796414400@runningdeergolfclub.com
SUMMARY:Prime Rib Night
DESCRIPTION:Join us every Friday from 4-8pm inside Seven Tap-Tavern for a delicious Prime Rib Dinner! Enjoy alongside your choice of soup or salad\, a starch\, and vegetable for $30.
URL:https://runningdeergolfclub.com/event/prime-rib-night/2026-12-04/
ATTACH;FMTTYPE=image/jpeg:https://runningdeergolfclub.com/wp-content/uploads/2025/12/RJG-1920-x-1080-px-5-1.jpg
END:VEVENT
BEGIN:VEVENT
DTSTART;TZID=UTC:20261209T190000
DTEND;TZID=UTC:20261209T210000
DTSTAMP:20260425T102057
CREATED:20260424T185747Z
LAST-MODIFIED:20260424T185748Z
UID:10005777-1796842800-1796850000@runningdeergolfclub.com
SUMMARY:Live Music
DESCRIPTION:Join us every Wednesday from 7-9 PM for Live Music inside Seven Tap-Tavern!
URL:https://runningdeergolfclub.com/event/live-music-2-2-2-2/2026-12-09/
CATEGORIES:Public
ATTACH;FMTTYPE=image/png:https://runningdeergolfclub.com/wp-content/uploads/2026/03/Live-Music.png
END:VEVENT
BEGIN:VEVENT
DTSTART;TZID=UTC:20261211T160000
DTEND;TZID=UTC:20261211T200000
DTSTAMP:20260425T102057
CREATED:20251216T212219Z
LAST-MODIFIED:20251216T212252Z
UID:10000531-1797004800-1797019200@runningdeergolfclub.com
SUMMARY:Prime Rib Night
DESCRIPTION:Join us every Friday from 4-8pm inside Seven Tap-Tavern for a delicious Prime Rib Dinner! Enjoy alongside your choice of soup or salad\, a starch\, and vegetable for $30.
URL:https://runningdeergolfclub.com/event/prime-rib-night/2026-12-11/
ATTACH;FMTTYPE=image/jpeg:https://runningdeergolfclub.com/wp-content/uploads/2025/12/RJG-1920-x-1080-px-5-1.jpg
END:VEVENT
BEGIN:VEVENT
DTSTART;TZID=UTC:20261216T190000
DTEND;TZID=UTC:20261216T210000
DTSTAMP:20260425T102057
CREATED:20260424T185747Z
LAST-MODIFIED:20260424T185748Z
UID:10005778-1797447600-1797454800@runningdeergolfclub.com
SUMMARY:Live Music
DESCRIPTION:Join us every Wednesday from 7-9 PM for Live Music inside Seven Tap-Tavern!
URL:https://runningdeergolfclub.com/event/live-music-2-2-2-2/2026-12-16/
CATEGORIES:Public
ATTACH;FMTTYPE=image/png:https://runningdeergolfclub.com/wp-content/uploads/2026/03/Live-Music.png
END:VEVENT
BEGIN:VEVENT
DTSTART;TZID=UTC:20261218T160000
DTEND;TZID=UTC:20261218T200000
DTSTAMP:20260425T102057
CREATED:20251216T212219Z
LAST-MODIFIED:20251216T212252Z
UID:10000532-1797609600-1797624000@runningdeergolfclub.com
SUMMARY:Prime Rib Night
DESCRIPTION:Join us every Friday from 4-8pm inside Seven Tap-Tavern for a delicious Prime Rib Dinner! Enjoy alongside your choice of soup or salad\, a starch\, and vegetable for $30.
URL:https://runningdeergolfclub.com/event/prime-rib-night/2026-12-18/
ATTACH;FMTTYPE=image/jpeg:https://runningdeergolfclub.com/wp-content/uploads/2025/12/RJG-1920-x-1080-px-5-1.jpg
END:VEVENT
BEGIN:VEVENT
DTSTART;TZID=UTC:20261223T190000
DTEND;TZID=UTC:20261223T210000
DTSTAMP:20260425T102057
CREATED:20260424T185747Z
LAST-MODIFIED:20260424T185748Z
UID:10005779-1798052400-1798059600@runningdeergolfclub.com
SUMMARY:Live Music
DESCRIPTION:Join us every Wednesday from 7-9 PM for Live Music inside Seven Tap-Tavern!
URL:https://runningdeergolfclub.com/event/live-music-2-2-2-2/2026-12-23/
CATEGORIES:Public
ATTACH;FMTTYPE=image/png:https://runningdeergolfclub.com/wp-content/uploads/2026/03/Live-Music.png
END:VEVENT
BEGIN:VEVENT
DTSTART;TZID=UTC:20261225T160000
DTEND;TZID=UTC:20261225T200000
DTSTAMP:20260425T102057
CREATED:20251216T212219Z
LAST-MODIFIED:20251216T212252Z
UID:10000533-1798214400-1798228800@runningdeergolfclub.com
SUMMARY:Prime Rib Night
DESCRIPTION:Join us every Friday from 4-8pm inside Seven Tap-Tavern for a delicious Prime Rib Dinner! Enjoy alongside your choice of soup or salad\, a starch\, and vegetable for $30.
URL:https://runningdeergolfclub.com/event/prime-rib-night/2026-12-25/
ATTACH;FMTTYPE=image/jpeg:https://runningdeergolfclub.com/wp-content/uploads/2025/12/RJG-1920-x-1080-px-5-1.jpg
END:VEVENT
BEGIN:VEVENT
DTSTART;TZID=UTC:20261230T190000
DTEND;TZID=UTC:20261230T210000
DTSTAMP:20260425T102057
CREATED:20260424T185747Z
LAST-MODIFIED:20260424T185748Z
UID:10005780-1798657200-1798664400@runningdeergolfclub.com
SUMMARY:Live Music
DESCRIPTION:Join us every Wednesday from 7-9 PM for Live Music inside Seven Tap-Tavern!
URL:https://runningdeergolfclub.com/event/live-music-2-2-2-2/2026-12-30/
CATEGORIES:Public
ATTACH;FMTTYPE=image/png:https://runningdeergolfclub.com/wp-content/uploads/2026/03/Live-Music.png
END:VEVENT
BEGIN:VEVENT
DTSTART;TZID=UTC:20270101T160000
DTEND;TZID=UTC:20270101T200000
DTSTAMP:20260425T102057
CREATED:20251216T212219Z
LAST-MODIFIED:20251216T212252Z
UID:10000534-1798819200-1798833600@runningdeergolfclub.com
SUMMARY:Prime Rib Night
DESCRIPTION:Join us every Friday from 4-8pm inside Seven Tap-Tavern for a delicious Prime Rib Dinner! Enjoy alongside your choice of soup or salad\, a starch\, and vegetable for $30.
URL:https://runningdeergolfclub.com/event/prime-rib-night/2027-01-01/
ATTACH;FMTTYPE=image/jpeg:https://runningdeergolfclub.com/wp-content/uploads/2025/12/RJG-1920-x-1080-px-5-1.jpg
END:VEVENT
END:VCALENDAR