BEGIN:VCALENDAR
VERSION:2.0
PRODID:-//Running Deer Golf Club - ECPv6.15.11//NONSGML v1.0//EN
CALSCALE:GREGORIAN
METHOD:PUBLISH
X-WR-CALNAME:Running Deer Golf Club
X-ORIGINAL-URL:https://runningdeergolfclub.com
X-WR-CALDESC:Events for Running Deer Golf Club
REFRESH-INTERVAL;VALUE=DURATION:PT1H
X-Robots-Tag:noindex
X-PUBLISHED-TTL:PT1H
BEGIN:VTIMEZONE
TZID:UTC
BEGIN:STANDARD
TZOFFSETFROM:+0000
TZOFFSETTO:+0000
TZNAME:UTC
DTSTART:20260101T000000
END:STANDARD
END:VTIMEZONE
BEGIN:VEVENT
DTSTART;TZID=UTC:20270310T180000
DTEND;TZID=UTC:20270310T200000
DTSTAMP:20260421T132556
CREATED:20260326T180428Z
LAST-MODIFIED:20260326T180428Z
UID:10005533-1804701600-1804708800@runningdeergolfclub.com
SUMMARY:Live Music
DESCRIPTION:Join us every Wednesday from 6-8 PM for Live Music inside Seven Tap-Tavern!
URL:https://runningdeergolfclub.com/event/live-music-2-2-2/2027-03-10/
CATEGORIES:Public
ATTACH;FMTTYPE=image/png:https://runningdeergolfclub.com/wp-content/uploads/2025/12/RD-Web-Events-Calendar.png
END:VEVENT
BEGIN:VEVENT
DTSTART;TZID=UTC:20270312T160000
DTEND;TZID=UTC:20270312T200000
DTSTAMP:20260421T132556
CREATED:20251216T212219Z
LAST-MODIFIED:20251216T212252Z
UID:10000544-1804867200-1804881600@runningdeergolfclub.com
SUMMARY:Prime Rib Night
DESCRIPTION:Join us every Friday from 4-8pm inside Seven Tap-Tavern for a delicious Prime Rib Dinner! Enjoy alongside your choice of soup or salad\, a starch\, and vegetable for $30.
URL:https://runningdeergolfclub.com/event/prime-rib-night/2027-03-12/
ATTACH;FMTTYPE=image/jpeg:https://runningdeergolfclub.com/wp-content/uploads/2025/12/RJG-1920-x-1080-px-5-1.jpg
END:VEVENT
BEGIN:VEVENT
DTSTART;TZID=UTC:20270317T180000
DTEND;TZID=UTC:20270317T200000
DTSTAMP:20260421T132556
CREATED:20260326T180428Z
LAST-MODIFIED:20260326T180428Z
UID:10005534-1805306400-1805313600@runningdeergolfclub.com
SUMMARY:Live Music
DESCRIPTION:Join us every Wednesday from 6-8 PM for Live Music inside Seven Tap-Tavern!
URL:https://runningdeergolfclub.com/event/live-music-2-2-2/2027-03-17/
CATEGORIES:Public
ATTACH;FMTTYPE=image/png:https://runningdeergolfclub.com/wp-content/uploads/2025/12/RD-Web-Events-Calendar.png
END:VEVENT
BEGIN:VEVENT
DTSTART;TZID=UTC:20270319T160000
DTEND;TZID=UTC:20270319T200000
DTSTAMP:20260421T132556
CREATED:20251216T212219Z
LAST-MODIFIED:20251216T212252Z
UID:10000545-1805472000-1805486400@runningdeergolfclub.com
SUMMARY:Prime Rib Night
DESCRIPTION:Join us every Friday from 4-8pm inside Seven Tap-Tavern for a delicious Prime Rib Dinner! Enjoy alongside your choice of soup or salad\, a starch\, and vegetable for $30.
URL:https://runningdeergolfclub.com/event/prime-rib-night/2027-03-19/
ATTACH;FMTTYPE=image/jpeg:https://runningdeergolfclub.com/wp-content/uploads/2025/12/RJG-1920-x-1080-px-5-1.jpg
END:VEVENT
BEGIN:VEVENT
DTSTART;TZID=UTC:20270324T180000
DTEND;TZID=UTC:20270324T200000
DTSTAMP:20260421T132556
CREATED:20260326T180428Z
LAST-MODIFIED:20260326T180428Z
UID:10005535-1805911200-1805918400@runningdeergolfclub.com
SUMMARY:Live Music
DESCRIPTION:Join us every Wednesday from 6-8 PM for Live Music inside Seven Tap-Tavern!
URL:https://runningdeergolfclub.com/event/live-music-2-2-2/2027-03-24/
CATEGORIES:Public
ATTACH;FMTTYPE=image/png:https://runningdeergolfclub.com/wp-content/uploads/2025/12/RD-Web-Events-Calendar.png
END:VEVENT
BEGIN:VEVENT
DTSTART;TZID=UTC:20270326T160000
DTEND;TZID=UTC:20270326T200000
DTSTAMP:20260421T132556
CREATED:20251216T212219Z
LAST-MODIFIED:20251216T212252Z
UID:10000546-1806076800-1806091200@runningdeergolfclub.com
SUMMARY:Prime Rib Night
DESCRIPTION:Join us every Friday from 4-8pm inside Seven Tap-Tavern for a delicious Prime Rib Dinner! Enjoy alongside your choice of soup or salad\, a starch\, and vegetable for $30.
URL:https://runningdeergolfclub.com/event/prime-rib-night/2027-03-26/
ATTACH;FMTTYPE=image/jpeg:https://runningdeergolfclub.com/wp-content/uploads/2025/12/RJG-1920-x-1080-px-5-1.jpg
END:VEVENT
BEGIN:VEVENT
DTSTART;TZID=UTC:20270331T180000
DTEND;TZID=UTC:20270331T200000
DTSTAMP:20260421T132556
CREATED:20260326T180428Z
LAST-MODIFIED:20260326T180428Z
UID:10005536-1806516000-1806523200@runningdeergolfclub.com
SUMMARY:Live Music
DESCRIPTION:Join us every Wednesday from 6-8 PM for Live Music inside Seven Tap-Tavern!
URL:https://runningdeergolfclub.com/event/live-music-2-2-2/2027-03-31/
CATEGORIES:Public
ATTACH;FMTTYPE=image/png:https://runningdeergolfclub.com/wp-content/uploads/2025/12/RD-Web-Events-Calendar.png
END:VEVENT
BEGIN:VEVENT
DTSTART;TZID=UTC:20270402T160000
DTEND;TZID=UTC:20270402T200000
DTSTAMP:20260421T132556
CREATED:20251216T212219Z
LAST-MODIFIED:20251216T212252Z
UID:10000547-1806681600-1806696000@runningdeergolfclub.com
SUMMARY:Prime Rib Night
DESCRIPTION:Join us every Friday from 4-8pm inside Seven Tap-Tavern for a delicious Prime Rib Dinner! Enjoy alongside your choice of soup or salad\, a starch\, and vegetable for $30.
URL:https://runningdeergolfclub.com/event/prime-rib-night/2027-04-02/
ATTACH;FMTTYPE=image/jpeg:https://runningdeergolfclub.com/wp-content/uploads/2025/12/RJG-1920-x-1080-px-5-1.jpg
END:VEVENT
BEGIN:VEVENT
DTSTART;TZID=UTC:20270407T180000
DTEND;TZID=UTC:20270407T200000
DTSTAMP:20260421T132556
CREATED:20260326T180428Z
LAST-MODIFIED:20260326T180428Z
UID:10005537-1807120800-1807128000@runningdeergolfclub.com
SUMMARY:Live Music
DESCRIPTION:Join us every Wednesday from 6-8 PM for Live Music inside Seven Tap-Tavern!
URL:https://runningdeergolfclub.com/event/live-music-2-2-2/2027-04-07/
CATEGORIES:Public
ATTACH;FMTTYPE=image/png:https://runningdeergolfclub.com/wp-content/uploads/2025/12/RD-Web-Events-Calendar.png
END:VEVENT
BEGIN:VEVENT
DTSTART;TZID=UTC:20270409T160000
DTEND;TZID=UTC:20270409T200000
DTSTAMP:20260421T132556
CREATED:20251216T212219Z
LAST-MODIFIED:20251216T212252Z
UID:10000548-1807286400-1807300800@runningdeergolfclub.com
SUMMARY:Prime Rib Night
DESCRIPTION:Join us every Friday from 4-8pm inside Seven Tap-Tavern for a delicious Prime Rib Dinner! Enjoy alongside your choice of soup or salad\, a starch\, and vegetable for $30.
URL:https://runningdeergolfclub.com/event/prime-rib-night/2027-04-09/
ATTACH;FMTTYPE=image/jpeg:https://runningdeergolfclub.com/wp-content/uploads/2025/12/RJG-1920-x-1080-px-5-1.jpg
END:VEVENT
BEGIN:VEVENT
DTSTART;TZID=UTC:20270414T180000
DTEND;TZID=UTC:20270414T200000
DTSTAMP:20260421T132556
CREATED:20260326T180428Z
LAST-MODIFIED:20260326T180428Z
UID:10005538-1807725600-1807732800@runningdeergolfclub.com
SUMMARY:Live Music
DESCRIPTION:Join us every Wednesday from 6-8 PM for Live Music inside Seven Tap-Tavern!
URL:https://runningdeergolfclub.com/event/live-music-2-2-2/2027-04-14/
CATEGORIES:Public
ATTACH;FMTTYPE=image/png:https://runningdeergolfclub.com/wp-content/uploads/2025/12/RD-Web-Events-Calendar.png
END:VEVENT
BEGIN:VEVENT
DTSTART;TZID=UTC:20270416T160000
DTEND;TZID=UTC:20270416T200000
DTSTAMP:20260421T132556
CREATED:20251216T212219Z
LAST-MODIFIED:20251216T212252Z
UID:10000549-1807891200-1807905600@runningdeergolfclub.com
SUMMARY:Prime Rib Night
DESCRIPTION:Join us every Friday from 4-8pm inside Seven Tap-Tavern for a delicious Prime Rib Dinner! Enjoy alongside your choice of soup or salad\, a starch\, and vegetable for $30.
URL:https://runningdeergolfclub.com/event/prime-rib-night/2027-04-16/
ATTACH;FMTTYPE=image/jpeg:https://runningdeergolfclub.com/wp-content/uploads/2025/12/RJG-1920-x-1080-px-5-1.jpg
END:VEVENT
BEGIN:VEVENT
DTSTART;TZID=UTC:20270421T180000
DTEND;TZID=UTC:20270421T200000
DTSTAMP:20260421T132556
CREATED:20260326T180428Z
LAST-MODIFIED:20260326T180428Z
UID:10005539-1808330400-1808337600@runningdeergolfclub.com
SUMMARY:Live Music
DESCRIPTION:Join us every Wednesday from 6-8 PM for Live Music inside Seven Tap-Tavern!
URL:https://runningdeergolfclub.com/event/live-music-2-2-2/2027-04-21/
CATEGORIES:Public
ATTACH;FMTTYPE=image/png:https://runningdeergolfclub.com/wp-content/uploads/2025/12/RD-Web-Events-Calendar.png
END:VEVENT
BEGIN:VEVENT
DTSTART;TZID=UTC:20270423T160000
DTEND;TZID=UTC:20270423T200000
DTSTAMP:20260421T132556
CREATED:20251216T212219Z
LAST-MODIFIED:20251216T212252Z
UID:10000550-1808496000-1808510400@runningdeergolfclub.com
SUMMARY:Prime Rib Night
DESCRIPTION:Join us every Friday from 4-8pm inside Seven Tap-Tavern for a delicious Prime Rib Dinner! Enjoy alongside your choice of soup or salad\, a starch\, and vegetable for $30.
URL:https://runningdeergolfclub.com/event/prime-rib-night/2027-04-23/
ATTACH;FMTTYPE=image/jpeg:https://runningdeergolfclub.com/wp-content/uploads/2025/12/RJG-1920-x-1080-px-5-1.jpg
END:VEVENT
BEGIN:VEVENT
DTSTART;TZID=UTC:20270428T180000
DTEND;TZID=UTC:20270428T200000
DTSTAMP:20260421T132556
CREATED:20260326T180428Z
LAST-MODIFIED:20260326T180428Z
UID:10005540-1808935200-1808942400@runningdeergolfclub.com
SUMMARY:Live Music
DESCRIPTION:Join us every Wednesday from 6-8 PM for Live Music inside Seven Tap-Tavern!
URL:https://runningdeergolfclub.com/event/live-music-2-2-2/2027-04-28/
CATEGORIES:Public
ATTACH;FMTTYPE=image/png:https://runningdeergolfclub.com/wp-content/uploads/2025/12/RD-Web-Events-Calendar.png
END:VEVENT
BEGIN:VEVENT
DTSTART;TZID=UTC:20270430T160000
DTEND;TZID=UTC:20270430T200000
DTSTAMP:20260421T132556
CREATED:20251216T212219Z
LAST-MODIFIED:20251216T212252Z
UID:10000551-1809100800-1809115200@runningdeergolfclub.com
SUMMARY:Prime Rib Night
DESCRIPTION:Join us every Friday from 4-8pm inside Seven Tap-Tavern for a delicious Prime Rib Dinner! Enjoy alongside your choice of soup or salad\, a starch\, and vegetable for $30.
URL:https://runningdeergolfclub.com/event/prime-rib-night/2027-04-30/
ATTACH;FMTTYPE=image/jpeg:https://runningdeergolfclub.com/wp-content/uploads/2025/12/RJG-1920-x-1080-px-5-1.jpg
END:VEVENT
BEGIN:VEVENT
DTSTART;TZID=UTC:20270505T180000
DTEND;TZID=UTC:20270505T200000
DTSTAMP:20260421T132556
CREATED:20260326T180428Z
LAST-MODIFIED:20260326T180428Z
UID:10005541-1809540000-1809547200@runningdeergolfclub.com
SUMMARY:Live Music
DESCRIPTION:Join us every Wednesday from 6-8 PM for Live Music inside Seven Tap-Tavern!
URL:https://runningdeergolfclub.com/event/live-music-2-2-2/2027-05-05/
CATEGORIES:Public
ATTACH;FMTTYPE=image/png:https://runningdeergolfclub.com/wp-content/uploads/2025/12/RD-Web-Events-Calendar.png
END:VEVENT
BEGIN:VEVENT
DTSTART;TZID=UTC:20270507T160000
DTEND;TZID=UTC:20270507T200000
DTSTAMP:20260421T132556
CREATED:20251216T212219Z
LAST-MODIFIED:20251216T212252Z
UID:10000552-1809705600-1809720000@runningdeergolfclub.com
SUMMARY:Prime Rib Night
DESCRIPTION:Join us every Friday from 4-8pm inside Seven Tap-Tavern for a delicious Prime Rib Dinner! Enjoy alongside your choice of soup or salad\, a starch\, and vegetable for $30.
URL:https://runningdeergolfclub.com/event/prime-rib-night/2027-05-07/
ATTACH;FMTTYPE=image/jpeg:https://runningdeergolfclub.com/wp-content/uploads/2025/12/RJG-1920-x-1080-px-5-1.jpg
END:VEVENT
BEGIN:VEVENT
DTSTART;TZID=UTC:20270512T180000
DTEND;TZID=UTC:20270512T200000
DTSTAMP:20260421T132556
CREATED:20260326T180428Z
LAST-MODIFIED:20260326T180428Z
UID:10005542-1810144800-1810152000@runningdeergolfclub.com
SUMMARY:Live Music
DESCRIPTION:Join us every Wednesday from 6-8 PM for Live Music inside Seven Tap-Tavern!
URL:https://runningdeergolfclub.com/event/live-music-2-2-2/2027-05-12/
CATEGORIES:Public
ATTACH;FMTTYPE=image/png:https://runningdeergolfclub.com/wp-content/uploads/2025/12/RD-Web-Events-Calendar.png
END:VEVENT
BEGIN:VEVENT
DTSTART;TZID=UTC:20270514T160000
DTEND;TZID=UTC:20270514T200000
DTSTAMP:20260421T132556
CREATED:20251216T212219Z
LAST-MODIFIED:20251216T212252Z
UID:10000553-1810310400-1810324800@runningdeergolfclub.com
SUMMARY:Prime Rib Night
DESCRIPTION:Join us every Friday from 4-8pm inside Seven Tap-Tavern for a delicious Prime Rib Dinner! Enjoy alongside your choice of soup or salad\, a starch\, and vegetable for $30.
URL:https://runningdeergolfclub.com/event/prime-rib-night/2027-05-14/
ATTACH;FMTTYPE=image/jpeg:https://runningdeergolfclub.com/wp-content/uploads/2025/12/RJG-1920-x-1080-px-5-1.jpg
END:VEVENT
BEGIN:VEVENT
DTSTART;TZID=UTC:20270519T180000
DTEND;TZID=UTC:20270519T200000
DTSTAMP:20260421T132556
CREATED:20260326T180428Z
LAST-MODIFIED:20260326T180428Z
UID:10005543-1810749600-1810756800@runningdeergolfclub.com
SUMMARY:Live Music
DESCRIPTION:Join us every Wednesday from 6-8 PM for Live Music inside Seven Tap-Tavern!
URL:https://runningdeergolfclub.com/event/live-music-2-2-2/2027-05-19/
CATEGORIES:Public
ATTACH;FMTTYPE=image/png:https://runningdeergolfclub.com/wp-content/uploads/2025/12/RD-Web-Events-Calendar.png
END:VEVENT
BEGIN:VEVENT
DTSTART;TZID=UTC:20270521T160000
DTEND;TZID=UTC:20270521T200000
DTSTAMP:20260421T132556
CREATED:20251216T212219Z
LAST-MODIFIED:20251216T212252Z
UID:10000554-1810915200-1810929600@runningdeergolfclub.com
SUMMARY:Prime Rib Night
DESCRIPTION:Join us every Friday from 4-8pm inside Seven Tap-Tavern for a delicious Prime Rib Dinner! Enjoy alongside your choice of soup or salad\, a starch\, and vegetable for $30.
URL:https://runningdeergolfclub.com/event/prime-rib-night/2027-05-21/
ATTACH;FMTTYPE=image/jpeg:https://runningdeergolfclub.com/wp-content/uploads/2025/12/RJG-1920-x-1080-px-5-1.jpg
END:VEVENT
BEGIN:VEVENT
DTSTART;TZID=UTC:20270526T180000
DTEND;TZID=UTC:20270526T200000
DTSTAMP:20260421T132556
CREATED:20260326T180428Z
LAST-MODIFIED:20260326T180428Z
UID:10005544-1811354400-1811361600@runningdeergolfclub.com
SUMMARY:Live Music
DESCRIPTION:Join us every Wednesday from 6-8 PM for Live Music inside Seven Tap-Tavern!
URL:https://runningdeergolfclub.com/event/live-music-2-2-2/2027-05-26/
CATEGORIES:Public
ATTACH;FMTTYPE=image/png:https://runningdeergolfclub.com/wp-content/uploads/2025/12/RD-Web-Events-Calendar.png
END:VEVENT
BEGIN:VEVENT
DTSTART;TZID=UTC:20270528T160000
DTEND;TZID=UTC:20270528T200000
DTSTAMP:20260421T132556
CREATED:20251216T212219Z
LAST-MODIFIED:20251216T212252Z
UID:10000555-1811520000-1811534400@runningdeergolfclub.com
SUMMARY:Prime Rib Night
DESCRIPTION:Join us every Friday from 4-8pm inside Seven Tap-Tavern for a delicious Prime Rib Dinner! Enjoy alongside your choice of soup or salad\, a starch\, and vegetable for $30.
URL:https://runningdeergolfclub.com/event/prime-rib-night/2027-05-28/
ATTACH;FMTTYPE=image/jpeg:https://runningdeergolfclub.com/wp-content/uploads/2025/12/RJG-1920-x-1080-px-5-1.jpg
END:VEVENT
BEGIN:VEVENT
DTSTART;TZID=UTC:20270602T180000
DTEND;TZID=UTC:20270602T200000
DTSTAMP:20260421T132556
CREATED:20260326T180428Z
LAST-MODIFIED:20260326T180428Z
UID:10005545-1811959200-1811966400@runningdeergolfclub.com
SUMMARY:Live Music
DESCRIPTION:Join us every Wednesday from 6-8 PM for Live Music inside Seven Tap-Tavern!
URL:https://runningdeergolfclub.com/event/live-music-2-2-2/2027-06-02/
CATEGORIES:Public
ATTACH;FMTTYPE=image/png:https://runningdeergolfclub.com/wp-content/uploads/2025/12/RD-Web-Events-Calendar.png
END:VEVENT
BEGIN:VEVENT
DTSTART;TZID=UTC:20270604T160000
DTEND;TZID=UTC:20270604T200000
DTSTAMP:20260421T132556
CREATED:20251216T212219Z
LAST-MODIFIED:20251216T212252Z
UID:10000556-1812124800-1812139200@runningdeergolfclub.com
SUMMARY:Prime Rib Night
DESCRIPTION:Join us every Friday from 4-8pm inside Seven Tap-Tavern for a delicious Prime Rib Dinner! Enjoy alongside your choice of soup or salad\, a starch\, and vegetable for $30.
URL:https://runningdeergolfclub.com/event/prime-rib-night/2027-06-04/
ATTACH;FMTTYPE=image/jpeg:https://runningdeergolfclub.com/wp-content/uploads/2025/12/RJG-1920-x-1080-px-5-1.jpg
END:VEVENT
BEGIN:VEVENT
DTSTART;TZID=UTC:20270609T180000
DTEND;TZID=UTC:20270609T200000
DTSTAMP:20260421T132556
CREATED:20260326T180428Z
LAST-MODIFIED:20260326T180428Z
UID:10005546-1812564000-1812571200@runningdeergolfclub.com
SUMMARY:Live Music
DESCRIPTION:Join us every Wednesday from 6-8 PM for Live Music inside Seven Tap-Tavern!
URL:https://runningdeergolfclub.com/event/live-music-2-2-2/2027-06-09/
CATEGORIES:Public
ATTACH;FMTTYPE=image/png:https://runningdeergolfclub.com/wp-content/uploads/2025/12/RD-Web-Events-Calendar.png
END:VEVENT
BEGIN:VEVENT
DTSTART;TZID=UTC:20270611T160000
DTEND;TZID=UTC:20270611T200000
DTSTAMP:20260421T132556
CREATED:20251216T212219Z
LAST-MODIFIED:20251216T212252Z
UID:10000557-1812729600-1812744000@runningdeergolfclub.com
SUMMARY:Prime Rib Night
DESCRIPTION:Join us every Friday from 4-8pm inside Seven Tap-Tavern for a delicious Prime Rib Dinner! Enjoy alongside your choice of soup or salad\, a starch\, and vegetable for $30.
URL:https://runningdeergolfclub.com/event/prime-rib-night/2027-06-11/
ATTACH;FMTTYPE=image/jpeg:https://runningdeergolfclub.com/wp-content/uploads/2025/12/RJG-1920-x-1080-px-5-1.jpg
END:VEVENT
BEGIN:VEVENT
DTSTART;TZID=UTC:20270616T180000
DTEND;TZID=UTC:20270616T200000
DTSTAMP:20260421T132556
CREATED:20260326T180428Z
LAST-MODIFIED:20260326T180428Z
UID:10005547-1813168800-1813176000@runningdeergolfclub.com
SUMMARY:Live Music
DESCRIPTION:Join us every Wednesday from 6-8 PM for Live Music inside Seven Tap-Tavern!
URL:https://runningdeergolfclub.com/event/live-music-2-2-2/2027-06-16/
CATEGORIES:Public
ATTACH;FMTTYPE=image/png:https://runningdeergolfclub.com/wp-content/uploads/2025/12/RD-Web-Events-Calendar.png
END:VEVENT
BEGIN:VEVENT
DTSTART;TZID=UTC:20270618T160000
DTEND;TZID=UTC:20270618T200000
DTSTAMP:20260421T132556
CREATED:20251216T212219Z
LAST-MODIFIED:20251216T212252Z
UID:10000558-1813334400-1813348800@runningdeergolfclub.com
SUMMARY:Prime Rib Night
DESCRIPTION:Join us every Friday from 4-8pm inside Seven Tap-Tavern for a delicious Prime Rib Dinner! Enjoy alongside your choice of soup or salad\, a starch\, and vegetable for $30.
URL:https://runningdeergolfclub.com/event/prime-rib-night/2027-06-18/
ATTACH;FMTTYPE=image/jpeg:https://runningdeergolfclub.com/wp-content/uploads/2025/12/RJG-1920-x-1080-px-5-1.jpg
END:VEVENT
END:VCALENDAR